BEGIN:VCALENDAR
VERSION:2.0
PRODID:-//Eventin//Event Calendar//EN
CALSCALE:GREGORIAN
METHOD:PUBLISH
BEGIN:VEVENT
UID:b1e95be5f87dbe06df81978a3607bc5e@smartfactory-academy.de
SUMMARY:Verwaltungsschale in Aktion – Hands-on Implementierung
DESCRIPTION:In diesem praxisorientierten Workshop erfahren die Teilnehmende
 n\, wie die Verwaltungsschale (Asset Administration Shell\, AAS) als zentra
 les Element der Industrie 4.0 eingesetzt wird\, um digitale Zwillinge von P
 rodukten und Anlagen zu realisieren. Nach einer kurzen Einführung in Konze
 pt und Standards der Verwaltungsschale geht es direkt in die Umsetzung: Gem
 einsam wird eine einfache AAS implementiert\, erweitert und mit Beispieldat
 en verknüpft.
LOCATION:Kaiserslautern
DTSTAMP:20260423T101017Z
DTSTART:20260701T070000Z
DTEND:20260701T140000Z
END:VEVENT
END:VCALENDAR
