BEGIN:VCALENDAR
VERSION:2.0
PRODID:-//Eventin//Event Calendar//EN
CALSCALE:GREGORIAN
METHOD:PUBLISH
BEGIN:VEVENT
UID:905e18413315b8d85d19d338a2892c94@smartfactory-academy.de
SUMMARY:Innovationskommunikation – Ideen sichtbar machen und Akzeptanz sc
 haffen - Kopieren Sie
DESCRIPTION:Warum dieser Workshop?\nInnovationen entstehen oft im Verborgen
 en – in Laboren\, Projekten oder Entwicklungsteams. Doch damit neue Techn
 ologien\, Produkte oder Prozesse Wirkung entfalten\, müssen sie auch verst
 anden\, akzeptiert und begeistert aufgenommen werden.Innovationskommunikati
 on verbindet daher Technologie\, Storytelling und Stakeholder-Management: S
 ie macht komplexe Themen verständlich\, vermittelt Nutzen und baut Brücke
 n zwischen Entwickler:innen\, Kund:innen\, Öffentlichkeit und Medien.\nIn 
 diesem Workshop lernen die Teilnehmenden\, Innovationen zielgruppengerecht 
 zu kommunizieren\, passende Kanäle und Formate auszuwählen und eine über
 zeugende Innovationsstory zu entwickeln.\nInhalte\n\nGrundlagen der Innovat
 ionskommunikation\n\nWas macht Innovation „kommunizierbar“?\nAbgrenzung
  zu klassischer PR\, Marketing und Change-Kommunikation\nStakeholderanalyse
 : Wer muss wann\, wie und warum überzeugt werden?\n\n\nStorytelling für I
 nnovationen\n\nKomplexe Inhalte einfach und verständlich erklären\nNutzen
 orientierte Argumentation statt Technikjargon\nEinsatz von Metaphern\, Bild
 ern und Beispielen\n\n\nKanäle & Formate\n\nKlassische Medien (Pressearbei
 t\, Fachmedien\, Interviews)\nDigitale Kanäle (Social Media\, Blogs\, Podc
 asts\, Erklärvideos)\nVeranstaltungen\, Messen und interne Kommunikationsm
 aßnahmen\n\n\nPraxisübungen\n\nEntwicklung einer Innovationsstory für ei
 n konkretes Projekt/Produkt\nPitch-Übung: Innovation in 90 Sekunden erklä
 ren\nSimulation: Umgang mit kritischen Fragen von Stakeholdern oder Presse\
 n\n\nBest Practices & Transfer\n\nErfolgsfaktoren für Innovationskommunika
 tion in Unternehmen und Forschung\nWie man intern Akzeptanz für Neues scha
 fft\nTransfer in die eigene Organisation\n\n\n\nIhr Nutzen\n\nSie lernen\, 
 komplexe Innovationen klar und verständlich zu vermitteln.\nSie können Zi
 elgruppen und Stakeholder passgenau ansprechen.\nSie entwickeln Werkzeuge\,
  um Akzeptanz für Veränderungen zu fördern.\nSie nehmen konkrete Kommuni
 kationsstrategien und Storylines für Ihre Projekte mit.\n\nZielgruppe\n\nI
 nnovations- und Projektmanager:innen\nKommunikations- und Marketingverantwo
 rtliche\nFührungskräfte in Forschung\, Entwicklung und Digitalisierung\nS
 tartups und Gründer:innen\, die ihre Ideen erfolgreich platzieren möchten
 \n\n \n 
LOCATION:Kaiserslautern oder Online 
DTSTAMP:20260424T143939Z
DTSTART:20260506T070000Z
DTEND:20260506T150000Z
END:VEVENT
END:VCALENDAR
